BEGIN:VCALENDAR
VERSION:2.0
PRODID:-//Kalamazoo Christian School Association - ECPv6.15.17//NONSGML v1.0//EN
CALSCALE:GREGORIAN
METHOD:PUBLISH
X-ORIGINAL-URL:https://kcsa.org
X-WR-CALDESC:Events for Kalamazoo Christian School Association
REFRESH-INTERVAL;VALUE=DURATION:PT1H
X-Robots-Tag:noindex
X-PUBLISHED-TTL:PT1H
BEGIN:VTIMEZONE
TZID:America/New_York
BEGIN:DAYLIGHT
TZOFFSETFROM:-0500
TZOFFSETTO:-0400
TZNAME:EDT
DTSTART:20240310T070000
END:DAYLIGHT
BEGIN:STANDARD
TZOFFSETFROM:-0400
TZOFFSETTO:-0500
TZNAME:EST
DTSTART:20241103T060000
END:STANDARD
BEGIN:DAYLIGHT
TZOFFSETFROM:-0500
TZOFFSETTO:-0400
TZNAME:EDT
DTSTART:20250309T070000
END:DAYLIGHT
BEGIN:STANDARD
TZOFFSETFROM:-0400
TZOFFSETTO:-0500
TZNAME:EST
DTSTART:20251102T060000
END:STANDARD
BEGIN:DAYLIGHT
TZOFFSETFROM:-0500
TZOFFSETTO:-0400
TZNAME:EDT
DTSTART:20260308T070000
END:DAYLIGHT
BEGIN:STANDARD
TZOFFSETFROM:-0400
TZOFFSETTO:-0500
TZNAME:EST
DTSTART:20261101T060000
END:STANDARD
BEGIN:DAYLIGHT
TZOFFSETFROM:-0500
TZOFFSETTO:-0400
TZNAME:EDT
DTSTART:20270314T070000
END:DAYLIGHT
BEGIN:STANDARD
TZOFFSETFROM:-0400
TZOFFSETTO:-0500
TZNAME:EST
DTSTART:20271107T060000
END:STANDARD
END:VTIMEZONE
BEGIN:VEVENT
DTSTART;TZID=America/New_York:20260213T163000
DTEND;TZID=America/New_York:20260213T210000
DTSTAMP:20260420T052024
CREATED:20251015T184231Z
LAST-MODIFIED:20251015T184231Z
UID:10000032-1771000200-1771016400@kcsa.org
SUMMARY:Homecoming
DESCRIPTION:Honoring the classes of 1966\, 1976\, 2001 and 2016.
URL:https://kcsa.org/event/homecoming/
LOCATION:Kalamazoo Christian High School\, 2121 Stadium Dr\, Kalamazoo\, MI\, United States
GEO:42.275642;-85.614838
X-APPLE-STRUCTURED-LOCATION;VALUE=URI;X-ADDRESS=Kalamazoo Christian High School 2121 Stadium Dr Kalamazoo MI United States;X-APPLE-RADIUS=500;X-TITLE=2121 Stadium Dr:geo:-85.614838,42.275642
END:VEVENT
BEGIN:VEVENT
DTSTART;TZID=America/New_York:20260213T080000
DTEND;TZID=America/New_York:20260213T090000
DTSTAMP:20260420T052024
CREATED:20251015T184231Z
LAST-MODIFIED:20251015T184231Z
UID:10000031-1770969600-1770973200@kcsa.org
SUMMARY:Community In Prayer
DESCRIPTION:
URL:https://kcsa.org/event/community-in-prayer-4/
LOCATION:Kalamazoo Christian Middle School\, 3800 S 12th St\, Kalamazoo\, MI 49009\, USA\, KCMS-1-MS Conf Rm-Middle School (30)
END:VEVENT
BEGIN:VEVENT
DTSTART;VALUE=DATE:20260213
DTEND;VALUE=DATE:20260214
DTSTAMP:20260420T052024
CREATED:20251015T184231Z
LAST-MODIFIED:20251015T184231Z
UID:10000033-1770940800-1771027199@kcsa.org
SUMMARY:New Comet Shadow Day
DESCRIPTION:
URL:https://kcsa.org/event/new-comet-shadow-day/
END:VEVENT
BEGIN:VEVENT
DTSTART;TZID=America/New_York:20260206T170000
DTEND;TZID=America/New_York:20260206T200000
DTSTAMP:20260420T052024
CREATED:20251015T184216Z
LAST-MODIFIED:20251015T184216Z
UID:10000030-1770397200-1770408000@kcsa.org
SUMMARY:HS Parent Teacher Conferences
DESCRIPTION:
URL:https://kcsa.org/event/hs-parent-teacher-conferences/
END:VEVENT
BEGIN:VEVENT
DTSTART;VALUE=DATE:20260204
DTEND;VALUE=DATE:20260205
DTSTAMP:20260420T052024
CREATED:20251015T184216Z
LAST-MODIFIED:20251015T184216Z
UID:10000029-1770163200-1770249599@kcsa.org
SUMMARY:College Commitment Signings
DESCRIPTION:
URL:https://kcsa.org/event/college-commitment-signings/
END:VEVENT
BEGIN:VEVENT
DTSTART;TZID=America/New_York:20260126T190000
DTEND;TZID=America/New_York:20260126T220000
DTSTAMP:20260420T052024
CREATED:20251015T184216Z
LAST-MODIFIED:20251015T184216Z
UID:10000028-1769454000-1769464800@kcsa.org
SUMMARY:KCSA BOARD MEETING
DESCRIPTION:
URL:https://kcsa.org/event/kcsa-board-meeting-3/
END:VEVENT
BEGIN:VEVENT
DTSTART;VALUE=DATE:20260123
DTEND;VALUE=DATE:20260124
DTSTAMP:20260420T052024
CREATED:20251015T184216Z
LAST-MODIFIED:20251015T184216Z
UID:10000027-1769126400-1769212799@kcsa.org
SUMMARY:PreK-12 Half (1/2) Day
DESCRIPTION:
URL:https://kcsa.org/event/prek-12-half-1-2-day-3/
END:VEVENT
BEGIN:VEVENT
DTSTART;TZID=America/New_York:20260109T080000
DTEND;TZID=America/New_York:20260109T090000
DTSTAMP:20260420T052024
CREATED:20251015T184216Z
LAST-MODIFIED:20251015T184216Z
UID:10000026-1767945600-1767949200@kcsa.org
SUMMARY:Community In Prayer
DESCRIPTION:
URL:https://kcsa.org/event/community-in-prayer-3/
LOCATION:Kalamazoo Christian Middle School\, 3800 S 12th St\, Kalamazoo\, MI 49009\, USA\, KCMS-1-MS Conf Rm-Middle School (30)
END:VEVENT
BEGIN:VEVENT
DTSTART;VALUE=DATE:20260105
DTEND;VALUE=DATE:20260106
DTSTAMP:20260420T052024
CREATED:20251015T184216Z
LAST-MODIFIED:20251015T184216Z
UID:10000025-1767571200-1767657599@kcsa.org
SUMMARY:School Resumes
DESCRIPTION:
URL:https://kcsa.org/event/school-resumes/
END:VEVENT
BEGIN:VEVENT
DTSTART;VALUE=DATE:20251222
DTEND;VALUE=DATE:20260103
DTSTAMP:20260420T052024
CREATED:20251015T184216Z
LAST-MODIFIED:20251015T184216Z
UID:10000024-1766361600-1767398399@kcsa.org
SUMMARY:No School - Christmas Break
DESCRIPTION:
URL:https://kcsa.org/event/no-school-christmas-break/
END:VEVENT
BEGIN:VEVENT
DTSTART;VALUE=DATE:20251219
DTEND;VALUE=DATE:20251220
DTSTAMP:20260420T052024
CREATED:20251015T184215Z
LAST-MODIFIED:20251015T184215Z
UID:10000023-1766102400-1766188799@kcsa.org
SUMMARY:PreK-12 Half (1/2) Day
DESCRIPTION:
URL:https://kcsa.org/event/prek-12-half-1-2-day-2/
END:VEVENT
BEGIN:VEVENT
DTSTART;VALUE=DATE:20251219
DTEND;VALUE=DATE:20251220
DTSTAMP:20260420T052024
CREATED:20251015T184215Z
LAST-MODIFIED:20251015T184215Z
UID:10000022-1766102400-1766188799@kcsa.org
SUMMARY:End of Quarter Two (End of Semester One)
DESCRIPTION:
URL:https://kcsa.org/event/end-of-quarter-two-end-of-semester-one/
END:VEVENT
BEGIN:VEVENT
DTSTART;TZID=America/New_York:20251217T180000
DTEND;TZID=America/New_York:20251217T190000
DTSTAMP:20260420T052024
CREATED:20251017T110347Z
LAST-MODIFIED:20251017T110347Z
UID:10000094-1765994400-1765998000@kcsa.org
SUMMARY:Y5's Christmas Program
DESCRIPTION:
URL:https://kcsa.org/event/y5s-christmas-program/
LOCATION:Heritage Christian Reformed Church\, 2857 S 11th St\, Kalamazoo\, MI\, United States
CATEGORIES:Fine Arts
GEO:42.263161;-85.657974
X-APPLE-STRUCTURED-LOCATION;VALUE=URI;X-ADDRESS=Heritage Christian Reformed Church 2857 S 11th St Kalamazoo MI United States;X-APPLE-RADIUS=500;X-TITLE=2857 S 11th St:geo:-85.657974,42.263161
END:VEVENT
BEGIN:VEVENT
DTSTART;TZID=America/New_York:20251216T190000
DTEND;TZID=America/New_York:20251216T200000
DTSTAMP:20260420T052024
CREATED:20251015T184313Z
LAST-MODIFIED:20251017T110334Z
UID:10000070-1765911600-1765915200@kcsa.org
SUMMARY:Middle School/High School Band Concert
DESCRIPTION:
URL:https://kcsa.org/event/middle-school-high-school-band-concert/
LOCATION:Third Christian Reformed Church\, 2400 Winchell Ave\, Kalamazoo\, MI\, United States
CATEGORIES:Fine Arts
GEO:42.267039;-85.618983
X-APPLE-STRUCTURED-LOCATION;VALUE=URI;X-ADDRESS=Third Christian Reformed Church 2400 Winchell Ave Kalamazoo MI United States;X-APPLE-RADIUS=500;X-TITLE=2400 Winchell Ave:geo:-85.618983,42.267039
END:VEVENT
BEGIN:VEVENT
DTSTART;TZID=America/New_York:20251212T080000
DTEND;TZID=America/New_York:20251212T090000
DTSTAMP:20260420T052024
CREATED:20251015T184215Z
LAST-MODIFIED:20251015T184215Z
UID:10000021-1765526400-1765530000@kcsa.org
SUMMARY:Community In Prayer
DESCRIPTION:
URL:https://kcsa.org/event/community-in-prayer-2/
LOCATION:Kalamazoo Christian Middle School\, 3800 S 12th St\, Kalamazoo\, MI 49009\, USA\, KCMS-1-MS Conf Rm-Middle School (30)
END:VEVENT
BEGIN:VEVENT
DTSTART;TZID=America/New_York:20251209T180000
DTEND;TZID=America/New_York:20251209T193000
DTSTAMP:20260420T052024
CREATED:20251015T184202Z
LAST-MODIFIED:20251015T184202Z
UID:10000020-1765303200-1765308600@kcsa.org
SUMMARY:PreK-8th New Family Info Night
DESCRIPTION:
URL:https://kcsa.org/event/prek-8th-new-family-info-night/
END:VEVENT
BEGIN:VEVENT
DTSTART;TZID=America/New_York:20251208T190000
DTEND;TZID=America/New_York:20251208T210000
DTSTAMP:20260420T052024
CREATED:20251015T184313Z
LAST-MODIFIED:20251017T110333Z
UID:10000069-1765220400-1765227600@kcsa.org
SUMMARY:High School Choir Concert
DESCRIPTION:At 7 p.m. at Heritage Christian Reformed Church.
URL:https://kcsa.org/event/high-school-choir-concert/
CATEGORIES:Fine Arts
END:VEVENT
BEGIN:VEVENT
DTSTART;VALUE=DATE:20251206
DTEND;VALUE=DATE:20251207
DTSTAMP:20260420T052024
CREATED:20251015T184201Z
LAST-MODIFIED:20251015T184201Z
UID:10000019-1764979200-1765065599@kcsa.org
SUMMARY:Swim-n-Win Quiz Bowl Tournament
DESCRIPTION:
URL:https://kcsa.org/event/swim-n-win-quiz-bowl-tournament/
LOCATION:Kalamazoo Christian High School\, 2121 Stadium Dr\, Kalamazoo\, MI\, United States
GEO:42.275642;-85.614838
X-APPLE-STRUCTURED-LOCATION;VALUE=URI;X-ADDRESS=Kalamazoo Christian High School 2121 Stadium Dr Kalamazoo MI United States;X-APPLE-RADIUS=500;X-TITLE=2121 Stadium Dr:geo:-85.614838,42.275642
END:VEVENT
BEGIN:VEVENT
DTSTART;TZID=America/New_York:20251203T190000
DTEND;TZID=America/New_York:20251203T203000
DTSTAMP:20260420T052024
CREATED:20251015T184313Z
LAST-MODIFIED:20251017T110333Z
UID:10000068-1764788400-1764793800@kcsa.org
SUMMARY:Middle School Play
DESCRIPTION:
URL:https://kcsa.org/event/middle-school-play-2/
LOCATION:Comstock Community Auditorium\, 2107 N 26th St\, Kalamazoo\, MI\, United States
CATEGORIES:Fine Arts
GEO:42.307907;-85.517635
X-APPLE-STRUCTURED-LOCATION;VALUE=URI;X-ADDRESS=Comstock Community Auditorium 2107 N 26th St Kalamazoo MI United States;X-APPLE-RADIUS=500;X-TITLE=2107 N 26th St:geo:-85.517635,42.307907
END:VEVENT
BEGIN:VEVENT
DTSTART;TZID=America/New_York:20251203T123000
DTEND;TZID=America/New_York:20251203T140000
DTSTAMP:20260420T052024
CREATED:20251015T184313Z
LAST-MODIFIED:20251017T110333Z
UID:10000067-1764765000-1764770400@kcsa.org
SUMMARY:Middle School Play
DESCRIPTION:
URL:https://kcsa.org/event/middle-school-play/
LOCATION:Comstock Community Auditorium\, 2107 N 26th St\, Kalamazoo\, MI\, United States
CATEGORIES:Fine Arts
GEO:42.307907;-85.517635
X-APPLE-STRUCTURED-LOCATION;VALUE=URI;X-ADDRESS=Comstock Community Auditorium 2107 N 26th St Kalamazoo MI United States;X-APPLE-RADIUS=500;X-TITLE=2107 N 26th St:geo:-85.517635,42.307907
END:VEVENT
BEGIN:VEVENT
DTSTART;VALUE=DATE:20251202
DTEND;VALUE=DATE:20251203
DTSTAMP:20260420T052024
CREATED:20251015T184201Z
LAST-MODIFIED:20251015T184201Z
UID:10000018-1764633600-1764719999@kcsa.org
SUMMARY:8th Grade Students visit KCHS
DESCRIPTION:
URL:https://kcsa.org/event/8th-grade-students-visit-kchs/
END:VEVENT
BEGIN:VEVENT
DTSTART;VALUE=DATE:20251127
DTEND;VALUE=DATE:20251129
DTSTAMP:20260420T052024
CREATED:20251015T184201Z
LAST-MODIFIED:20251015T184201Z
UID:10000015-1764201600-1764374399@kcsa.org
SUMMARY:No School - Thanksgiving Break
DESCRIPTION:
URL:https://kcsa.org/event/no-school-thanksgiving-break/
END:VEVENT
BEGIN:VEVENT
DTSTART;VALUE=DATE:20251126
DTEND;VALUE=DATE:20251127
DTSTAMP:20260420T052024
CREATED:20251015T184201Z
LAST-MODIFIED:20251015T184201Z
UID:10000016-1764115200-1764201599@kcsa.org
SUMMARY:PreK-12 Half (1/2) Day
DESCRIPTION:
URL:https://kcsa.org/event/prek-12-half-1-2-day/
END:VEVENT
BEGIN:VEVENT
DTSTART;VALUE=DATE:20251126
DTEND;VALUE=DATE:20251127
DTSTAMP:20260420T052024
CREATED:20251015T184201Z
LAST-MODIFIED:20251015T184201Z
UID:10000017-1764115200-1764201599@kcsa.org
SUMMARY:High School Grandparent's Day
DESCRIPTION:
URL:https://kcsa.org/event/high-school-grandparents-day/
END:VEVENT
BEGIN:VEVENT
DTSTART;TZID=America/New_York:20251124T190000
DTEND;TZID=America/New_York:20251124T220000
DTSTAMP:20260420T052024
CREATED:20251015T184201Z
LAST-MODIFIED:20251015T184201Z
UID:10000014-1764010800-1764021600@kcsa.org
SUMMARY:KCSA BOARD MEETING
DESCRIPTION:
URL:https://kcsa.org/event/kcsa-board-meeting-2/
END:VEVENT
BEGIN:VEVENT
DTSTART;TZID=America/New_York:20251122T190000
DTEND;TZID=America/New_York:20251122T210000
DTSTAMP:20260420T052024
CREATED:20251015T184313Z
LAST-MODIFIED:20251017T110333Z
UID:10000066-1763838000-1763845200@kcsa.org
SUMMARY:HS Fall play "Murder on the Orient Express"
DESCRIPTION:
URL:https://kcsa.org/event/hs-fall-play-murder-on-the-orient-express-4/
LOCATION:Third Christian Reformed Church\, 2400 Winchell Ave\, Kalamazoo\, MI\, United States
CATEGORIES:Fine Arts
GEO:42.267039;-85.618983
X-APPLE-STRUCTURED-LOCATION;VALUE=URI;X-ADDRESS=Third Christian Reformed Church 2400 Winchell Ave Kalamazoo MI United States;X-APPLE-RADIUS=500;X-TITLE=2400 Winchell Ave:geo:-85.618983,42.267039
END:VEVENT
BEGIN:VEVENT
DTSTART;TZID=America/New_York:20251122T140000
DTEND;TZID=America/New_York:20251122T160000
DTSTAMP:20260420T052024
CREATED:20251015T184313Z
LAST-MODIFIED:20251017T110333Z
UID:10000065-1763820000-1763827200@kcsa.org
SUMMARY:HS Fall play "Murder on the Orient Express"
DESCRIPTION:
URL:https://kcsa.org/event/hs-fall-play-murder-on-the-orient-express-3/
LOCATION:Third Christian Reformed Church\, 2400 Winchell Ave\, Kalamazoo\, MI\, United States
CATEGORIES:Fine Arts
GEO:42.267039;-85.618983
X-APPLE-STRUCTURED-LOCATION;VALUE=URI;X-ADDRESS=Third Christian Reformed Church 2400 Winchell Ave Kalamazoo MI United States;X-APPLE-RADIUS=500;X-TITLE=2400 Winchell Ave:geo:-85.618983,42.267039
END:VEVENT
BEGIN:VEVENT
DTSTART;TZID=America/New_York:20251121T190000
DTEND;TZID=America/New_York:20251121T210000
DTSTAMP:20260420T052024
CREATED:20251015T184313Z
LAST-MODIFIED:20251017T110333Z
UID:10000064-1763751600-1763758800@kcsa.org
SUMMARY:HS Fall play "Murder on the Orient Express"
DESCRIPTION:
URL:https://kcsa.org/event/hs-fall-play-murder-on-the-orient-express-2/
LOCATION:Third Christian Reformed Church\, 2400 Winchell Ave\, Kalamazoo\, MI\, United States
CATEGORIES:Fine Arts
GEO:42.267039;-85.618983
X-APPLE-STRUCTURED-LOCATION;VALUE=URI;X-ADDRESS=Third Christian Reformed Church 2400 Winchell Ave Kalamazoo MI United States;X-APPLE-RADIUS=500;X-TITLE=2400 Winchell Ave:geo:-85.618983,42.267039
END:VEVENT
BEGIN:VEVENT
DTSTART;TZID=America/New_York:20251120T190000
DTEND;TZID=America/New_York:20251120T210000
DTSTAMP:20260420T052024
CREATED:20251015T184313Z
LAST-MODIFIED:20251017T110333Z
UID:10000063-1763665200-1763672400@kcsa.org
SUMMARY:HS Fall play "Murder on the Orient Express"
DESCRIPTION:
URL:https://kcsa.org/event/hs-fall-play-murder-on-the-orient-express/
LOCATION:Third Christian Reformed Church\, 2400 Winchell Ave\, Kalamazoo\, MI\, United States
CATEGORIES:Fine Arts
GEO:42.267039;-85.618983
X-APPLE-STRUCTURED-LOCATION;VALUE=URI;X-ADDRESS=Third Christian Reformed Church 2400 Winchell Ave Kalamazoo MI United States;X-APPLE-RADIUS=500;X-TITLE=2400 Winchell Ave:geo:-85.618983,42.267039
END:VEVENT
BEGIN:VEVENT
DTSTART;VALUE=DATE:20251120
DTEND;VALUE=DATE:20251121
DTSTAMP:20260420T052024
CREATED:20251015T184201Z
LAST-MODIFIED:20251015T184201Z
UID:10000013-1763596800-1763683199@kcsa.org
SUMMARY:KCS Mom's Night Out
DESCRIPTION:
URL:https://kcsa.org/event/kcs-moms-night-out/
END:VEVENT
END:VCALENDAR