BEGIN:VCALENDAR
VERSION:2.0
PRODID:-//Kalamazoo Christian School Association - ECPv6.15.17//NONSGML v1.0//EN
CALSCALE:GREGORIAN
METHOD:PUBLISH
X-ORIGINAL-URL:https://kcsa.org
X-WR-CALDESC:Events for Kalamazoo Christian School Association
REFRESH-INTERVAL;VALUE=DURATION:PT1H
X-Robots-Tag:noindex
X-PUBLISHED-TTL:PT1H
BEGIN:VTIMEZONE
TZID:America/New_York
BEGIN:DAYLIGHT
TZOFFSETFROM:-0500
TZOFFSETTO:-0400
TZNAME:EDT
DTSTART:20250309T070000
END:DAYLIGHT
BEGIN:STANDARD
TZOFFSETFROM:-0400
TZOFFSETTO:-0500
TZNAME:EST
DTSTART:20251102T060000
END:STANDARD
BEGIN:DAYLIGHT
TZOFFSETFROM:-0500
TZOFFSETTO:-0400
TZNAME:EDT
DTSTART:20260308T070000
END:DAYLIGHT
BEGIN:STANDARD
TZOFFSETFROM:-0400
TZOFFSETTO:-0500
TZNAME:EST
DTSTART:20261101T060000
END:STANDARD
BEGIN:DAYLIGHT
TZOFFSETFROM:-0500
TZOFFSETTO:-0400
TZNAME:EDT
DTSTART:20270314T070000
END:DAYLIGHT
BEGIN:STANDARD
TZOFFSETFROM:-0400
TZOFFSETTO:-0500
TZNAME:EST
DTSTART:20271107T060000
END:STANDARD
BEGIN:DAYLIGHT
TZOFFSETFROM:-0500
TZOFFSETTO:-0400
TZNAME:EDT
DTSTART:20280312T070000
END:DAYLIGHT
BEGIN:STANDARD
TZOFFSETFROM:-0400
TZOFFSETTO:-0500
TZNAME:EST
DTSTART:20281105T060000
END:STANDARD
END:VTIMEZONE
BEGIN:VEVENT
DTSTART;TZID=America/New_York:20260513T190000
DTEND;TZID=America/New_York:20260513T200000
DTSTAMP:20260422T065449
CREATED:20251015T184301Z
LAST-MODIFIED:20251015T184301Z
UID:10000058-1778698800-1778702400@kcsa.org
SUMMARY:HS Senior Awards Night
DESCRIPTION:
URL:https://kcsa.org/event/hs-senior-awards-night/
END:VEVENT
BEGIN:VEVENT
DTSTART;TZID=America/New_York:20260514T190000
DTEND;TZID=America/New_York:20260514T200000
DTSTAMP:20260422T065449
CREATED:20251017T110402Z
LAST-MODIFIED:20251017T110402Z
UID:10000107-1778785200-1778788800@kcsa.org
SUMMARY:5th/6th Band Concert ( ES gym)
DESCRIPTION:
URL:https://kcsa.org/event/5th-6th-band-concert-es-gym/
CATEGORIES:Fine Arts
END:VEVENT
BEGIN:VEVENT
DTSTART;VALUE=DATE:20260515
DTEND;VALUE=DATE:20260516
DTSTAMP:20260422T065449
CREATED:20251015T184301Z
LAST-MODIFIED:20251015T184301Z
UID:10000060-1778803200-1778889599@kcsa.org
SUMMARY:PreK-8 Grandparents Day (1/2 Day)
DESCRIPTION:
URL:https://kcsa.org/event/prek-8-grandparents-day-1-2-day/
END:VEVENT
BEGIN:VEVENT
DTSTART;VALUE=DATE:20260515
DTEND;VALUE=DATE:20260516
DTSTAMP:20260422T065449
CREATED:20251015T184316Z
LAST-MODIFIED:20251015T184316Z
UID:10000071-1778803200-1778889599@kcsa.org
SUMMARY:HS Senior Last Day of Class
DESCRIPTION:
URL:https://kcsa.org/event/hs-senior-last-day-of-class/
END:VEVENT
BEGIN:VEVENT
DTSTART;TZID=America/New_York:20260518T190000
DTEND;TZID=America/New_York:20260518T210000
DTSTAMP:20260422T065449
CREATED:20251015T184316Z
LAST-MODIFIED:20251015T184316Z
UID:10000072-1779130800-1779138000@kcsa.org
SUMMARY:KCSA Board Mtg - date change
DESCRIPTION:
URL:https://kcsa.org/event/kcsa-board-mtg-date-change/
END:VEVENT
BEGIN:VEVENT
DTSTART;VALUE=DATE:20260520
DTEND;VALUE=DATE:20260521
DTSTAMP:20260422T065449
CREATED:20251015T184316Z
LAST-MODIFIED:20251015T184316Z
UID:10000073-1779235200-1779321599@kcsa.org
SUMMARY:HS Senior Grad Bash
DESCRIPTION:
URL:https://kcsa.org/event/hs-senior-grad-bash/
END:VEVENT
BEGIN:VEVENT
DTSTART;VALUE=DATE:20260520
DTEND;VALUE=DATE:20260521
DTSTAMP:20260422T065449
CREATED:20251015T184316Z
LAST-MODIFIED:20251015T184316Z
UID:10000074-1779235200-1779321599@kcsa.org
SUMMARY:HS Graduation
DESCRIPTION:
URL:https://kcsa.org/event/hs-graduation/
END:VEVENT
BEGIN:VEVENT
DTSTART;VALUE=DATE:20260520
DTEND;VALUE=DATE:20260521
DTSTAMP:20260422T065449
CREATED:20251015T184316Z
LAST-MODIFIED:20251015T184316Z
UID:10000075-1779235200-1779321599@kcsa.org
SUMMARY:HS Senior Brunch
DESCRIPTION:
URL:https://kcsa.org/event/hs-senior-brunch/
END:VEVENT
BEGIN:VEVENT
DTSTART;VALUE=DATE:20260525
DTEND;VALUE=DATE:20260526
DTSTAMP:20260422T065449
CREATED:20251015T184316Z
LAST-MODIFIED:20251017T102813Z
UID:10000076-1779667200-1779753599@kcsa.org
SUMMARY:No School - Memorial Day
DESCRIPTION:
URL:https://kcsa.org/event/no-school-memorial-day/
END:VEVENT
BEGIN:VEVENT
DTSTART;VALUE=DATE:20260529
DTEND;VALUE=DATE:20260530
DTSTAMP:20260422T065449
CREATED:20251015T184316Z
LAST-MODIFIED:20251015T184316Z
UID:10000077-1780012800-1780099199@kcsa.org
SUMMARY:Last Day of School Half (1/2) Day
DESCRIPTION:
URL:https://kcsa.org/event/last-day-of-school-half-1-2-day/
END:VEVENT
BEGIN:VEVENT
DTSTART;TZID=America/New_York:20260629T190000
DTEND;TZID=America/New_York:20260629T220000
DTSTAMP:20260422T065449
CREATED:20251015T184316Z
LAST-MODIFIED:20251015T184316Z
UID:10000078-1782759600-1782770400@kcsa.org
SUMMARY:KCSA BOARD MEETING
DESCRIPTION:
URL:https://kcsa.org/event/kcsa-board-meeting-6/
END:VEVENT
BEGIN:VEVENT
DTSTART;TZID=America/New_York:20260831T190000
DTEND;TZID=America/New_York:20260831T220000
DTSTAMP:20260422T065449
CREATED:20251015T184316Z
LAST-MODIFIED:20251015T184316Z
UID:10000079-1788202800-1788213600@kcsa.org
SUMMARY:KCSA BOARD MEETING
DESCRIPTION:
URL:https://kcsa.org/event/kcsa-board-meeting-7/
END:VEVENT
BEGIN:VEVENT
DTSTART;TZID=America/New_York:20260928T190000
DTEND;TZID=America/New_York:20260928T220000
DTSTAMP:20260422T065449
CREATED:20251015T184317Z
LAST-MODIFIED:20251015T184317Z
UID:10000080-1790622000-1790632800@kcsa.org
SUMMARY:KCSA BOARD MEETING
DESCRIPTION:
URL:https://kcsa.org/event/kcsa-board-meeting-8/
END:VEVENT
BEGIN:VEVENT
DTSTART;TZID=America/New_York:20261026T190000
DTEND;TZID=America/New_York:20261026T220000
DTSTAMP:20260422T065449
CREATED:20251015T184330Z
LAST-MODIFIED:20251015T184330Z
UID:10000081-1793041200-1793052000@kcsa.org
SUMMARY:KCSA BOARD MEETING
DESCRIPTION:
URL:https://kcsa.org/event/kcsa-board-meeting-9/
END:VEVENT
BEGIN:VEVENT
DTSTART;TZID=America/New_York:20261130T190000
DTEND;TZID=America/New_York:20261130T220000
DTSTAMP:20260422T065449
CREATED:20251015T184330Z
LAST-MODIFIED:20251015T184330Z
UID:10000082-1796065200-1796076000@kcsa.org
SUMMARY:KCSA BOARD MEETING
DESCRIPTION:
URL:https://kcsa.org/event/kcsa-board-meeting-10/
END:VEVENT
BEGIN:VEVENT
DTSTART;TZID=America/New_York:20261228T190000
DTEND;TZID=America/New_York:20261228T220000
DTSTAMP:20260422T065449
CREATED:20251015T184331Z
LAST-MODIFIED:20251015T184331Z
UID:10000083-1798484400-1798495200@kcsa.org
SUMMARY:KCSA BOARD MEETING
DESCRIPTION:
URL:https://kcsa.org/event/kcsa-board-meeting-11/
END:VEVENT
BEGIN:VEVENT
DTSTART;TZID=America/New_York:20270125T190000
DTEND;TZID=America/New_York:20270125T220000
DTSTAMP:20260422T065449
CREATED:20251015T184331Z
LAST-MODIFIED:20251015T184331Z
UID:10000084-1800903600-1800914400@kcsa.org
SUMMARY:KCSA BOARD MEETING
DESCRIPTION:
URL:https://kcsa.org/event/kcsa-board-meeting-12/
END:VEVENT
BEGIN:VEVENT
DTSTART;TZID=America/New_York:20270222T190000
DTEND;TZID=America/New_York:20270222T220000
DTSTAMP:20260422T065449
CREATED:20251015T184331Z
LAST-MODIFIED:20251015T184331Z
UID:10000085-1803322800-1803333600@kcsa.org
SUMMARY:KCSA BOARD MEETING
DESCRIPTION:
URL:https://kcsa.org/event/kcsa-board-meeting-13/
END:VEVENT
BEGIN:VEVENT
DTSTART;TZID=America/New_York:20270329T190000
DTEND;TZID=America/New_York:20270329T220000
DTSTAMP:20260422T065449
CREATED:20251015T184331Z
LAST-MODIFIED:20251015T184331Z
UID:10000086-1806346800-1806357600@kcsa.org
SUMMARY:KCSA BOARD MEETING
DESCRIPTION:
URL:https://kcsa.org/event/kcsa-board-meeting-14/
END:VEVENT
BEGIN:VEVENT
DTSTART;TZID=America/New_York:20270426T190000
DTEND;TZID=America/New_York:20270426T220000
DTSTAMP:20260422T065449
CREATED:20251015T184331Z
LAST-MODIFIED:20251015T184331Z
UID:10000087-1808766000-1808776800@kcsa.org
SUMMARY:KCSA BOARD MEETING
DESCRIPTION:
URL:https://kcsa.org/event/kcsa-board-meeting-15/
END:VEVENT
BEGIN:VEVENT
DTSTART;TZID=America/New_York:20270531T190000
DTEND;TZID=America/New_York:20270531T220000
DTSTAMP:20260422T065449
CREATED:20251015T184331Z
LAST-MODIFIED:20251015T184331Z
UID:10000088-1811790000-1811800800@kcsa.org
SUMMARY:KCSA BOARD MEETING
DESCRIPTION:
URL:https://kcsa.org/event/kcsa-board-meeting-16/
END:VEVENT
BEGIN:VEVENT
DTSTART;TZID=America/New_York:20270628T190000
DTEND;TZID=America/New_York:20270628T220000
DTSTAMP:20260422T065449
CREATED:20251015T184331Z
LAST-MODIFIED:20251015T184331Z
UID:10000089-1814209200-1814220000@kcsa.org
SUMMARY:KCSA BOARD MEETING
DESCRIPTION:
URL:https://kcsa.org/event/kcsa-board-meeting-17/
END:VEVENT
BEGIN:VEVENT
DTSTART;TZID=America/New_York:20270726T190000
DTEND;TZID=America/New_York:20270726T220000
DTSTAMP:20260422T065449
CREATED:20251015T184332Z
LAST-MODIFIED:20251015T184332Z
UID:10000090-1816628400-1816639200@kcsa.org
SUMMARY:KCSA BOARD MEETING
DESCRIPTION:
URL:https://kcsa.org/event/kcsa-board-meeting-18/
END:VEVENT
BEGIN:VEVENT
DTSTART;TZID=America/New_York:20270830T190000
DTEND;TZID=America/New_York:20270830T220000
DTSTAMP:20260422T065449
CREATED:20251015T184345Z
LAST-MODIFIED:20251114T200131Z
UID:10000091-1819652400-1819663200@kcsa.org
SUMMARY:KCSA BOARD MEETING
DESCRIPTION:
URL:https://kcsa.org/event/kcsa-board-meeting-19/
END:VEVENT
BEGIN:VEVENT
DTSTART;TZID=America/New_York:20270927T190000
DTEND;TZID=America/New_York:20270927T220000
DTSTAMP:20260422T065449
CREATED:20251015T184346Z
LAST-MODIFIED:20251114T200131Z
UID:10000092-1822071600-1822082400@kcsa.org
SUMMARY:KCSA BOARD MEETING
DESCRIPTION:
URL:https://kcsa.org/event/kcsa-board-meeting-20/
END:VEVENT
END:VCALENDAR